BEGIN:VCALENDAR
PRODID:-//eluceo/ical//2.0/EN
VERSION:2.0
CALSCALE:GREGORIAN
BEGIN:VEVENT
UID:22fa1897519e50ef6884286391b5bae2
DTSTAMP:20260420T010109Z
SUMMARY:Benefizcocktail
DESCRIPTION:Webseite: https://wien-hofburg-ststephan.rotaract.at/de/agenda/
 show/147658
URL:https://wien-donau.rotary.at/de/agenda/show/147422
DTSTART;TZID=Europe/Zurich:20260126T173000
DTEND;TZID=Europe/Zurich:20260126T235500
LOCATION:Altkalksburger-Vereinigung\, Hofburg\, Ballhauspl. 1\, 1010 Wien
CATEGORIES:Rotary
END:VEVENT
BEGIN:VTIMEZONE
TZID:Europe/Zurich
BEGIN:STANDARD
DTSTART:20260126T173000
TZNAME:CET
TZOFFSETTO:+0100
TZOFFSETFROM:+0100
END:STANDARD
END:VTIMEZONE
END:VCALENDAR
